BEGIN:VCALENDAR
VERSION:2.0
PRODID:-//ArchiStoneArt - ECPv6.15.14//NONSGML v1.0//EN
CALSCALE:GREGORIAN
METHOD:PUBLISH
X-ORIGINAL-URL:https://archistoneart.com/fr
X-WR-CALDESC:Évènements pour ArchiStoneArt
REFRESH-INTERVAL;VALUE=DURATION:PT1H
X-Robots-Tag:noindex
X-PUBLISHED-TTL:PT1H
BEGIN:VTIMEZONE
TZID:UTC
BEGIN:STANDARD
TZOFFSETFROM:+0000
TZOFFSETTO:+0000
TZNAME:UTC
DTSTART:20240101T000000
END:STANDARD
END:VTIMEZONE
BEGIN:VEVENT
DTSTART;TZID=UTC:20251001T080000
DTEND;TZID=UTC:20251001T170000
DTSTAMP:20260421T103704
CREATED:20250918T182307Z
LAST-MODIFIED:20250918T182308Z
UID:353-1759305600-1759338000@archistoneart.com
SUMMARY:ParkFest 2025 (Park Industries)
DESCRIPTION:Premier stone fabrication event hosted by Park Industries®\, bringing together fabricators from across North America.
URL:https://archistoneart.com/fr/event/parkfest-2025-park-industries/
LOCATION:St. Cloud Park\, 3001 17th Street S\,\, St. Cloud\, Minesota\, 56301\, United States
END:VEVENT
END:VCALENDAR